Workbook

Sheet Información
A1: Código | B1: Descripción | C1: Precio | E1: Datos del Cliente
A2: a001 | B2: Servicio instalación disco | C2: 5 | E2: Nombre: | F2: nombre del cliente
A3: a002 | B3: Servicio de limpieza PC | C3: 10 | E3: Razon Social: | F3: razon social del cliente
A4: a003 | B4: Hacer Backup | C4: 25 | E4: :Dirección | F4: direccion del cliente
A5: a008 | B5: Disco de 1 TB marca acme | C5: 75 | E5: Telefono: | F5: telefono del cliente
A6: a1001 | B6: Tarjeta madre ASYS 88.02093 | C6: 125 | E6: E-mail: | F6: email del cliente

Sheet Documento
A1: PRESUPUESTO N.º 0000001 | E1: =TODAY() -> 43864
D3: Datos del Cliente
B4: nombre tu negocio | D4: =Información!F2 -> nombre del cliente
B5: Nombre de tu empresa S.L | D5: =Información!F3 -> razon social del cliente
B6: Direccion | D6: =Información!F4 -> direccion del cliente
B7: Nif | D7: =Información!F5 -> telefono del cliente
B8: email@empresa.com | D8: =Información!F6 -> email del cliente
A11: Código | B11: Concepto | C11: Cantidad | D11: Precio | E11: %Dto | F11: Total
A12: a001 | B12: =IFERROR(VLOOKUP(A12,Información!A:C,2),"") | C12: 1 | D12: =IFERROR(VLOOKUP(A12,Información!A:C,3),"") -> 0 | E12: 10 | F12: =IFERROR(C12*D12*(100-E12)/100,"") -> 0
A13: a002 | B13: =IFERROR(VLOOKUP(A13,Información!A:C,2),"") | C13: 1 | D13: =IFERROR(VLOOKUP(A13,Información!A:C,3),"") -> 0 | E13: 10 | F13: =IFERROR(C13*D13*(100-E13)/100,"") -> 0
A14: a004 | B14: =IFERROR(VLOOKUP(A14,Información!A:C,2),"") | C14: 1 | D14: =IFERROR(VLOOKUP(A14,Información!A:C,3),"") -> 0 | E14: 10 | F14: =IFERROR(C14*D14*(100-E14)/100,"") -> 0
A15: a003 | B15: =IFERROR(VLOOKUP(A15,Información!A:C,2),"") | C15: 2 | D15: =IFERROR(VLOOKUP(A15,Información!A:C,3),"") -> 0 | E15: 15 | F15: =IFERROR(C15*D15*(100-E15)/100,"") -> 0
A16: a1001 | B16: =IFERROR(VLOOKUP(A16,Información!A:C,2),"") | C16: 12 | D16: =IFERROR(VLOOKUP(A16,Información!A:C,3),"") -> 0 | E16: 20 | F16: =IFERROR(C16*D16*(100-E16)/100,"") -> 0
A17: a008 | B17: =IFERROR(VLOOKUP(A17,Información!A:C,2),"") | C17: 4 | D17: =IFERROR(VLOOKUP(A17,Información!A:C,3),"") -> 0 | E17: 30 | F17: =IFERROR(C17*D17*(100-E17)/100,"") -> 0
B18: =IFERROR(VLOOKUP(A18,Información!A:C,2),"") | D18: =IFERROR(VLOOKUP(A18,Información!A:C,3),"") | F18: =IFERROR(C18*D18*(100-E18)/100,"")
B19: =IFERROR(VLOOKUP(A19,Información!A:C,2),"") | D19: =IFERROR(VLOOKUP(A19,Información!A:C,3),"")
B20: =IFERROR(VLOOKUP(A20,Información!A:C,2),"") | D20: =IFERROR(VLOOKUP(A20,Información!A:C,3),"") | F20: =IFERROR(C20*D20*(100-E20)/100,"")
B21: =IFERROR(VLOOKUP(A21,Información!A:C,2),"") | D21: =IFERROR(VLOOKUP(A21,Información!A:C,3),"") | F21: =IFERROR(C21*D21*(100-E21)/100,"")
B22: =IFERROR(VLOOKUP(A22,Información!A:C,2),"") | D22: =IFERROR(VLOOKUP(A22,Información!A:C,3),"") | F22: =IFERROR(C22*D22*(100-E22)/100,"")
B23: =IFERROR(VLOOKUP(A23,Información!A:C,2),"") | D23: =IFERROR(VLOOKUP(A23,Información!A:C,3),"") | F23: =IFERROR(C23*D23*(100-E23)/100,"")
B24: =IFERROR(VLOOKUP(A24,Información!A:C,2),"") | D24: =IFERROR(VLOOKUP(A24,Información!A:C,3),"") | F24: =IFERROR(C24*D24*(100-E24)/100,"")
B25: =IFERROR(VLOOKUP(A25,Información!A:C,2),"") | D25: =IFERROR(VLOOKUP(A25,Información!A:C,3),"") | F25: =IFERROR(C25*D25*(100-E25)/100,"")
B26: =IFERROR(VLOOKUP(A26,Información!A:C,2),"") | D26: =IFERROR(VLOOKUP(A26,Información!A:C,3),"") | F26: =IFERROR(C26*D26*(100-E26)/100,"")
B27: =IFERROR(VLOOKUP(A27,Información!A:C,2),"") | D27: =IFERROR(VLOOKUP(A27,Información!A:C,3),"") | F27: =IFERROR(C27*D27*(100-E27)/100,"")
B28: =IFERROR(VLOOKUP(A28,Información!A:C,2),"") | D28: =IFERROR(VLOOKUP(A28,Información!A:C,3),"") | F28: =IFERROR(C28*D28*(100-E28)/100,"")
B29: =IFERROR(VLOOKUP(A29,Información!A:C,2),"") | D29: =IFERROR(VLOOKUP(A29,Información!A:C,3),"") | F29: =IFERROR(C29*D29*(100-E29)/100,"")
B30: =IFERROR(VLOOKUP(A30,Información!A:C,2),"") | D30: =IFERROR(VLOOKUP(A30,Información!A:C,3),"") | F30: =IFERROR(C30*D30*(100-E30)/100,"")
B31: =IFERROR(VLOOKUP(A31,Información!A:C,2),"") | D31: =IFERROR(VLOOKUP(A31,Información!A:C,3),"") | F31: =IFERROR(C31*D31*(100-E31)/100,"")
... B47: =IFERROR(VLOOKUP(A47,Información!A:C,2),"") | D47: =IFERROR(VLOOKUP(A47,Información!A:C,3),"") | F47: =IFERROR(C47*D47*(100-E47)/100,"")
E49: SUBTOTAL | F49: =SUM(F12:F48) -> 0
D50: 21 | E50: IVA % | F50: =F49*D50/100 -> 0
E51: TOTAL PRESUPUESTO: | F51: =F50+F49 -> 0

Sheet Acerca de
A8: https://websitedinamico.com
