Workbook

Sheet Resumen año
A1: Ejercicio | J1: 2019
A2: Mes | B2: Gastos (S/) | F2: Mes | G2: Ingresos (€)
A3: Enero | B3: =Enero!C3 -> 0 | F3: Enero | G3: =Enero!G3 -> 0
A4: Febrero | B4: =Febrero!C3 -> 0 | F4: Febrero | G4: =Febrero!G3 -> 0
A5: Marzo | B5: =Marzo!C3 -> 0 | F5: Marzo | G5: =Marzo!G3 -> 0
A6: Abril | B6: =Abril!C3 -> 0 | F6: Abril | G6: =Abril!G3 -> 0
A7: Mayo | B7: =Mayo!C3 -> 0 | F7: Mayo | G7: =Mayo!G3 -> 0
A8: Junio | B8: =Junio!C3 -> 0 | F8: Junio | G8: =Junio!G3 -> 0
A9: Julio | B9: =Julio!C3 -> 0 | F9: Julio | G9: =Julio!G3 -> 0
A10: Agosto | B10: =Agosto!C3 -> 0 | F10: Agosto | G10: =Agosto!G3 -> 0
A11: Septiembre | B11: =Septiembre!C3 -> 0 | F11: Septiembre | G11: =Septiembre!G3 -> 0
A12: Octubre | B12: =Octubre!C3 -> 0 | F12: Octubre | G12: =Octubre!G3 -> 0
A13: Noviembre | B13: =Noviembre!C3 -> 0 | F13: Noviembre | G13: =Noviembre!G3 -> 0
A14: Diciembre | B14: =Diciembre!C3 -> 2000 | F14: Diciembre | G14: =Diciembre!G3 -> 1000
A15: ING. TOTAL | B15: =SUM(B3:B14) -> 2000 | F15: ING. TOTAL | G15: =SUM(G3:G14) -> 1000
A18: ING. TOTAL | B18: =G15 -> 1000 | G18: Notas: | J18: Fecha:
A19: GASTO TOTAL | B19: =B15 -> 2000
A20: BENEFICIO (S/) | B20: =B18-B19 -> -1000

Sheet Enero
A1: Gastos | D1: Enero | E1: Ingresos | H1: Beneficio:
A2: Fecha | B2: Concepto | C2: Cantidad | E2: Fecha | F2: Concepto / Trabajo | G2: Cantidad | H2: Ingresos:
B3: Total Ingresos | C3: =SUM(C4:C100) -> 0 | F3: Total Ingresos | G3: =SUM(G4:G100) -> 0 | H3: Gastos:

Sheet Febrero
A1: Gastos | D1: Febrero | E1: Ingresos | H1: Beneficio:
A2: Fecha | B2: Concepto | C2: Cantidad | E2: Fecha | F2: Concepto / Trabajo | G2: Cantidad | H2: Ingresos:
B3: Total Ingresos | C3: =SUM(C4:C100) -> 0 | F3: Total Ingresos | G3: =SUM(G4:G100) -> 0 | H3: Gastos:

Sheet Marzo
A1: Gastos | D1: Marzo | E1: Ingresos | H1: Beneficio:
A2: Fecha | B2: Concepto | C2: Cantidad | E2: Fecha | F2: Concepto / Trabajo | G2: Cantidad | H2: Ingresos:
B3: Total Ingresos | C3: =SUM(C4:C100) -> 0 | F3: Total Ingresos | G3: =SUM(G4:G100) -> 0 | H3: Gastos:

Sheet Abril
A1: Gastos | D1: Abril | E1: Ingresos | H1: Beneficio:
A2: Fecha | B2: Concepto | C2: Cantidad | E2: Fecha | F2: Concepto / Trabajo | G2: Cantidad | H2: Ingresos:
B3: Total Ingresos | C3: =SUM(C4:C100) -> 0 | F3: Total Ingresos | G3: =SUM(G4:G100) -> 0 | H3: Gastos:

Sheet Mayo
A1: Gastos | D1: Mayo | E1: Ingresos | H1: Beneficio:
A2: Fecha | B2: Concepto | C2: Cantidad | E2: Fecha | F2: Concepto / Trabajo | G2: Cantidad | H2: Ingresos:
B3: Total Ingresos | C3: =SUM(C4:C100) -> 0 | F3: Total Ingresos | G3: =SUM(G4:G100) -> 0 | H3: Gastos:

Sheet Junio
A1: Gastos | D1: Junio | E1: Ingresos | H1: Beneficio:
A2: Fecha | B2: Concepto | C2: Cantidad | E2: Fecha | F2: Concepto / Trabajo | G2: Cantidad | H2: Ingresos:
B3: Total Ingresos | C3: =SUM(C4:C100) -> 0 | F3: Total Ingresos | G3: =SUM(G4:G100) -> 0 | H3: Gastos:

Sheet Julio
A1: Gastos | D1: Julio | E1: Ingresos | H1: Beneficio:
A2: Fecha | B2: Concepto | C2: Cantidad | E2: Fecha | F2: Concepto / Trabajo | G2: Cantidad | H2: Ingresos:
B3: Total Ingresos | C3: =SUM(C4:C100) -> 0 | F3: Total Ingresos | G3: =SUM(G4:G100) -> 0 | H3: Gastos:

Sheet Agosto
A1: Gastos | D1: Agosto | E1: Ingresos | H1: Beneficio:
A2: Fecha | B2: Concepto | C2: Cantidad | E2: Fecha | F2: Concepto / Trabajo | G2: Cantidad | H2: Ingresos:
B3: Total Ingresos | C3: =SUM(C4:C100) -> 0 | F3: Total Ingresos | G3: =SUM(G4:G100) -> 0 | H3: Gastos:

Sheet Septiembre
A1: Gastos | D1: Setiembre | E1: Ingresos | H1: Beneficio:
A2: Fecha | B2: Concepto | C2: Cantidad | E2: Fecha | F2: Concepto / Trabajo | G2: Cantidad | H2: Ingresos:
B3: Total Ingresos | C3: =SUM(C4:C100) -> 0 | F3: Total Ingresos | G3: =SUM(G4:G100) -> 0 | H3: Gastos:

Sheet Octubre
A1: Gastos | D1: Octubre | E1: Ingresos | H1: Beneficio:
A2: Fecha | B2: Concepto | C2: Cantidad | E2: Fecha | F2: Concepto / Trabajo | G2: Cantidad | H2: Ingresos:
B3: Total Ingresos | C3: =SUM(C4:C100) -> 0 | F3: Total Ingresos | G3: =SUM(G4:G100) -> 0 | H3: Gastos:

Sheet Noviembre
A1: Gastos | D1: Noviembre | E1: Ingresos | H1: Beneficio:
A2: Fecha | B2: Concepto | C2: Cantidad | E2: Fecha | F2: Concepto / Trabajo | G2: Cantidad | H2: Ingresos:
B3: Total Ingresos | C3: =SUM(C4:C100) -> 0 | F3: Total Ingresos | G3: =SUM(G4:G100) -> 0 | H3: Gastos:

Sheet Diciembre
A1: Gastos | D1: Diciembre | E1: Ingresos | H1: Beneficio: | I1: =I2-I3 -> -1000
A2: Fecha | B2: Concepto | C2: Cantidad | E2: Fecha | F2: Concepto / Trabajo | G2: Cantidad | H2: Ingresos: | I2: =G3 -> 1000
B3: Total Ingresos | C3: =SUM(C4:C100) -> 2000 | F3: Total Ingresos | G3: =SUM(G4:G100) -> 1000 | H3: Gastos: | I3: =C3 -> 2000
C4: 2000 | G4: 1000

Sheet Acerca de
A8: https://websitedinamico.com
