Workbook
Name Lectores: '[1]Presidentes y lectores'!$B$2:$B$31
Name ORDENADOS: [1]Datos!$G$2:$G$200
Name Presidentes: '[1]Presidentes y lectores'!$A$2:$A$31
Name Publicador: #REF!

Sheet ENE
C2: TOTAL INGRESOS | E2: =SUM(C37:E37) -> 0 | G2: TOTAL GASTOS | I2: =SUM(F37:T37) -> 0 | K2: AHORRO DEL MÉS | M2: =E2-I2 -> 0
C4: =DATOS!B3 -> INGRESOS | F4: =DATOS!B4 -> GASTOS | U4: TOTAL
A5: DIA | C5: =DATOS!C3 -> Concepto1 | D5: =DATOS!D3 -> Concepto2 | E5: =DATOS!E3 -> Concepto3 | F5: =DATOS!C4 -> Concepto1 | G5: =DATOS!D4 -> Concepto2 | H5: =DATOS!E4 -> Concepto3 | I5: =DATOS!F4 -> Concepto4 | J5: =DATOS!G4 -> Concepto5 | K5: =DATOS!H4 -> Concepto6 | L5: =DATOS!I4 -> Concepto7 | M5: =DATOS!J4 -> Concepto8 | ... T5: =DATOS!Q4 -> Concepto15 | U5: POR DÍA
A6: 1 | U6: =SUM(C6:E6)-SUM(F6:T6) -> 0
A7: =A6+1 -> 2 | U7: =SUM(C7:E7)-SUM(F7:T7) -> 0
A8: =A7+1 -> 3 | U8: =SUM(C8:E8)-SUM(F8:T8) -> 0
A9: =A8+1 -> 4 | U9: =SUM(C9:E9)-SUM(F9:T9) -> 0
A10: =A9+1 -> 5 | U10: =SUM(C10:E10)-SUM(F10:T10) -> 0
A11: =A10+1 -> 6 | U11: =SUM(C11:E11)-SUM(F11:T11) -> 0
A12: =A11+1 -> 7 | U12: =SUM(C12:E12)-SUM(F12:T12) -> 0
A13: =A12+1 -> 8 | U13: =SUM(C13:E13)-SUM(F13:T13) -> 0
A14: =A13+1 -> 9 | U14: =SUM(C14:E14)-SUM(F14:T14) -> 0
A15: =A14+1 -> 10 | U15: =SUM(C15:E15)-SUM(F15:T15) -> 0
A16: =A15+1 -> 11 | U16: =SUM(C16:E16)-SUM(F16:T16) -> 0
A17: =A16+1 -> 12 | U17: =SUM(C17:E17)-SUM(F17:T17) -> 0
A18: =A17+1 -> 13 | U18: =SUM(C18:E18)-SUM(F18:T18) -> 0
... A36: =A35+1 -> 31 | U36: =SUM(C36:E36)-SUM(F36:T36) -> 0
A37: TOTAL | C37: =SUM(C6:C36) -> 0 | D37: =SUM(D6:D36) -> 0 | E37: =SUM(E6:E36) -> 0 | F37: =SUM(F6:F36) -> 0 | G37: =SUM(G6:G36) -> 0 | H37: =SUM(H6:H36) -> 0 | I37: =SUM(I6:I36) -> 0 | J37: =SUM(J6:J36) -> 0 | ... T37: =SUM(T6:T36) -> 0

Sheet FEB
C2: TOTAL INGRESOS | E2: =SUM(C35:E35) -> 0 | G2: TOTAL GASTOS | I2: =SUM(F35:T35) -> 0 | K2: AHORRO DEL MÉS | M2: =E2-I2 -> 0
C4: =DATOS!B3 -> INGRESOS | F4: GASTOS | U4: TOTAL
A5: DIA | C5: =DATOS!C3 -> Concepto1 | D5: =DATOS!D3 -> Concepto2 | E5: =DATOS!E3 -> Concepto3 | F5: =DATOS!C4 -> Concepto1 | G5: =DATOS!D4 -> Concepto2 | H5: =DATOS!E4 -> Concepto3 | I5: =DATOS!F4 -> Concepto4 | J5: =DATOS!G4 -> Concepto5 | K5: =DATOS!H4 -> Concepto6 | L5: =DATOS!I4 -> Concepto7 | M5: =DATOS!J4 -> Concepto8 | ... T5: =DATOS!Q4 -> Concepto15 | U5: POR DÍA
A6: 1 | U6: =SUM(C6:E6)-SUM(F6:T6) -> 0
A7: =A6+1 -> 2 | U7: =SUM(C7:E7)-SUM(F7:T7) -> 0
A8: =A7+1 -> 3 | U8: =SUM(C8:E8)-SUM(F8:T8) -> 0
A9: =A8+1 -> 4 | U9: =SUM(C9:E9)-SUM(F9:T9) -> 0
A10: =A9+1 -> 5 | U10: =SUM(C10:E10)-SUM(F10:T10) -> 0
A11: =A10+1 -> 6 | U11: =SUM(C11:E11)-SUM(F11:T11) -> 0
A12: =A11+1 -> 7 | U12: =SUM(C12:E12)-SUM(F12:T12) -> 0
A13: =A12+1 -> 8 | U13: =SUM(C13:E13)-SUM(F13:T13) -> 0
A14: =A13+1 -> 9 | U14: =SUM(C14:E14)-SUM(F14:T14) -> 0
A15: =A14+1 -> 10 | U15: =SUM(C15:E15)-SUM(F15:T15) -> 0
A16: =A15+1 -> 11 | U16: =SUM(C16:E16)-SUM(F16:T16) -> 0
A17: =A16+1 -> 12 | U17: =SUM(C17:E17)-SUM(F17:T17) -> 0
A18: =A17+1 -> 13 | U18: =SUM(C18:E18)-SUM(F18:T18) -> 0
... A34: =A33+1 -> 29 | U34: =SUM(C34:E34)-SUM(F34:T34) -> 0
A35: TOTAL | C35: =SUM(C6:C34) -> 0 | D35: =SUM(D6:D34) -> 0 | E35: =SUM(E6:E34) -> 0 | F35: =SUM(F6:F34) -> 0 | G35: =SUM(G6:G34) -> 0 | H35: =SUM(H6:H34) -> 0 | I35: =SUM(I6:I34) -> 0 | J35: =SUM(J6:J34) -> 0 | ... T35: =SUM(T6:T34) -> 0

Sheet MAR
C2: TOTAL INGRESOS | E2: =SUM(C37:E37) -> 16 | G2: TOTAL GASTOS | I2: =SUM(F37:T37) -> 0 | K2: AHORRO DEL MÉS | M2: =E2-I2 -> 16
C4: =DATOS!B3 -> INGRESOS | F4: GASTOS | U4: TOTAL
A5: DIA | C5: =DATOS!C3 -> Concepto1 | D5: =DATOS!D3 -> Concepto2 | E5: =DATOS!E3 -> Concepto3 | F5: =DATOS!C4 -> Concepto1 | G5: =DATOS!D4 -> Concepto2 | H5: =DATOS!E4 -> Concepto3 | I5: =DATOS!F4 -> Concepto4 | J5: =DATOS!G4 -> Concepto5 | K5: =DATOS!H4 -> Concepto6 | L5: =DATOS!I4 -> Concepto7 | M5: =DATOS!J4 -> Concepto8 | ... T5: =DATOS!Q4 -> Concepto15 | U5: POR DÍA
A6: 1 | C6: 12 | U6: =SUM(C6:E6)-SUM(F6:T6) -> 12
A7: =A6+1 -> 2 | C7: 2 | U7: =SUM(C7:E7)-SUM(F7:T7) -> 2
A8: =A7+1 -> 3 | C8: 2 | U8: =SUM(C8:E8)-SUM(F8:T8) -> 2
A9: =A8+1 -> 4 | U9: =SUM(C9:E9)-SUM(F9:T9) -> 0
A10: =A9+1 -> 5 | U10: =SUM(C10:E10)-SUM(F10:T10) -> 0
A11: =A10+1 -> 6 | U11: =SUM(C11:E11)-SUM(F11:T11) -> 0
A12: =A11+1 -> 7 | U12: =SUM(C12:E12)-SUM(F12:T12) -> 0
A13: =A12+1 -> 8 | U13: =SUM(C13:E13)-SUM(F13:T13) -> 0
A14: =A13+1 -> 9 | U14: =SUM(C14:E14)-SUM(F14:T14) -> 0
A15: =A14+1 -> 10 | U15: =SUM(C15:E15)-SUM(F15:T15) -> 0
A16: =A15+1 -> 11 | U16: =SUM(C16:E16)-SUM(F16:T16) -> 0
A17: =A16+1 -> 12 | U17: =SUM(C17:E17)-SUM(F17:T17) -> 0
A18: =A17+1 -> 13 | U18: =SUM(C18:E18)-SUM(F18:T18) -> 0
A19: =A18+1 -> 14 | U19: =SUM(C19:E19)-SUM(F19:T19) -> 0
A20: =A19+1 -> 15 | U20: =SUM(C20:E20)-SUM(F20:T20) -> 0
... A36: =A35+1 -> 31 | U36: =SUM(C36:E36)-SUM(F36:T36) -> 0
A37: TOTAL | C37: =SUM(C6:C36) -> 16 | D37: =SUM(D6:D36) -> 0 | E37: =SUM(E6:E36) -> 0 | F37: =SUM(F6:F36) -> 0 | G37: =SUM(G6:G36) -> 0 | H37: =SUM(H6:H36) -> 0 | I37: =SUM(I6:I36) -> 0 | J37: =SUM(J6:J36) -> 0 | ... T37: =SUM(T6:T36) -> 0

Sheet ABR
C2: TOTAL INGRESOS | E2: =SUM(C36:E36) -> 0 | G2: TOTAL GASTOS | I2: =SUM(F36:T36) -> 0 | K2: AHORRO DEL MÉS | M2: =E2-I2 -> 0
C4: =DATOS!B3 -> INGRESOS | F4: GASTOS | U4: TOTAL
A5: DIA | C5: =DATOS!C3 -> Concepto1 | D5: =DATOS!D3 -> Concepto2 | E5: =DATOS!E3 -> Concepto3 | F5: =DATOS!C4 -> Concepto1 | G5: =DATOS!D4 -> Concepto2 | H5: =DATOS!E4 -> Concepto3 | I5: =DATOS!F4 -> Concepto4 | J5: =DATOS!G4 -> Concepto5 | K5: =DATOS!H4 -> Concepto6 | L5: =DATOS!I4 -> Concepto7 | M5: =DATOS!J4 -> Concepto8 | ... T5: =DATOS!Q4 -> Concepto15 | U5: POR DÍA
A6: 1 | U6: =SUM(C6:E6)-SUM(F6:T6) -> 0
A7: =A6+1 -> 2 | U7: =SUM(C7:E7)-SUM(F7:T7) -> 0
A8: =A7+1 -> 3 | U8: =SUM(C8:E8)-SUM(F8:T8) -> 0
A9: =A8+1 -> 4 | U9: =SUM(C9:E9)-SUM(F9:T9) -> 0
A10: =A9+1 -> 5 | U10: =SUM(C10:E10)-SUM(F10:T10) -> 0
A11: =A10+1 -> 6 | U11: =SUM(C11:E11)-SUM(F11:T11) -> 0
A12: =A11+1 -> 7 | U12: =SUM(C12:E12)-SUM(F12:T12) -> 0
A13: =A12+1 -> 8 | U13: =SUM(C13:E13)-SUM(F13:T13) -> 0
A14: =A13+1 -> 9 | U14: =SUM(C14:E14)-SUM(F14:T14) -> 0
A15: =A14+1 -> 10 | U15: =SUM(C15:E15)-SUM(F15:T15) -> 0
A16: =A15+1 -> 11 | U16: =SUM(C16:E16)-SUM(F16:T16) -> 0
A17: =A16+1 -> 12 | U17: =SUM(C17:E17)-SUM(F17:T17) -> 0
A18: =A17+1 -> 13 | U18: =SUM(C18:E18)-SUM(F18:T18) -> 0
... A35: =A34+1 -> 30 | U35: =SUM(C35:E35)-SUM(F35:T35) -> 0
A36: TOTAL | C36: =SUM(C6:C35) -> 0 | D36: =SUM(D6:D35) -> 0 | E36: =SUM(E6:E35) -> 0 | F36: =SUM(F6:F35) -> 0 | G36: =SUM(G6:G35) -> 0 | H36: =SUM(H6:H35) -> 0 | I36: =SUM(I6:I35) -> 0 | J36: =SUM(J6:J35) -> 0 | ... T36: =SUM(T6:T35) -> 0

Sheet MAY
C2: TOTAL INGRESOS | E2: =SUM(C37:E37) -> 0 | G2: TOTAL GASTOS | I2: =SUM(F37:T37) -> 0 | K2: AHORRO DEL MÉS | M2: =E2-I2 -> 0
C4: =DATOS!B3 -> INGRESOS | F4: GASTOS | U4: TOTAL
A5: DIA | C5: =DATOS!C3 -> Concepto1 | D5: =DATOS!D3 -> Concepto2 | E5: =DATOS!E3 -> Concepto3 | F5: =DATOS!C4 -> Concepto1 | G5: =DATOS!D4 -> Concepto2 | H5: =DATOS!E4 -> Concepto3 | I5: =DATOS!F4 -> Concepto4 | J5: =DATOS!G4 -> Concepto5 | K5: =DATOS!H4 -> Concepto6 | L5: =DATOS!I4 -> Concepto7 | M5: =DATOS!J4 -> Concepto8 | ... T5: =DATOS!Q4 -> Concepto15 | U5: POR DÍA
A6: 1 | U6: =SUM(C6:E6)-SUM(F6:T6) -> 0
A7: =A6+1 -> 2 | U7: =SUM(C7:E7)-SUM(F7:T7) -> 0
A8: =A7+1 -> 3 | U8: =SUM(C8:E8)-SUM(F8:T8) -> 0
A9: =A8+1 -> 4 | U9: =SUM(C9:E9)-SUM(F9:T9) -> 0
A10: =A9+1 -> 5 | U10: =SUM(C10:E10)-SUM(F10:T10) -> 0
A11: =A10+1 -> 6 | U11: =SUM(C11:E11)-SUM(F11:T11) -> 0
A12: =A11+1 -> 7 | U12: =SUM(C12:E12)-SUM(F12:T12) -> 0
A13: =A12+1 -> 8 | U13: =SUM(C13:E13)-SUM(F13:T13) -> 0
A14: =A13+1 -> 9 | U14: =SUM(C14:E14)-SUM(F14:T14) -> 0
A15: =A14+1 -> 10 | U15: =SUM(C15:E15)-SUM(F15:T15) -> 0
A16: =A15+1 -> 11 | U16: =SUM(C16:E16)-SUM(F16:T16) -> 0
A17: =A16+1 -> 12 | U17: =SUM(C17:E17)-SUM(F17:T17) -> 0
A18: =A17+1 -> 13 | U18: =SUM(C18:E18)-SUM(F18:T18) -> 0
... A36: =A35+1 -> 31 | U36: =SUM(C36:E36)-SUM(F36:T36) -> 0
A37: TOTAL | C37: =SUM(C6:C36) -> 0 | D37: =SUM(D6:D36) -> 0 | E37: =SUM(E6:E36) -> 0 | F37: =SUM(F6:F36) -> 0 | G37: =SUM(G6:G36) -> 0 | H37: =SUM(H6:H36) -> 0 | I37: =SUM(I6:I36) -> 0 | J37: =SUM(J6:J36) -> 0 | ... T37: =SUM(T6:T36) -> 0

Sheet JUN
C2: TOTAL INGRESOS | E2: =SUM(C36:E36) -> 0 | G2: TOTAL GASTOS | I2: =SUM(F36:T36) -> 0 | K2: AHORRO DEL MÉS | M2: =E2-I2 -> 0
C4: =DATOS!B3 -> INGRESOS | F4: GASTOS | U4: TOTAL
A5: DIA | C5: =DATOS!C3 -> Concepto1 | D5: =DATOS!D3 -> Concepto2 | E5: =DATOS!E3 -> Concepto3 | F5: =DATOS!C4 -> Concepto1 | G5: =DATOS!D4 -> Concepto2 | H5: =DATOS!E4 -> Concepto3 | I5: =DATOS!F4 -> Concepto4 | J5: =DATOS!G4 -> Concepto5 | K5: =DATOS!H4 -> Concepto6 | L5: =DATOS!I4 -> Concepto7 | M5: =DATOS!J4 -> Concepto8 | ... T5: =DATOS!Q4 -> Concepto15 | U5: POR DÍA
A6: 1 | U6: =SUM(C6:E6)-SUM(F6:T6) -> 0
A7: =A6+1 -> 2 | U7: =SUM(C7:E7)-SUM(F7:T7) -> 0
A8: =A7+1 -> 3 | U8: =SUM(C8:E8)-SUM(F8:T8) -> 0
A9: =A8+1 -> 4 | U9: =SUM(C9:E9)-SUM(F9:T9) -> 0
A10: =A9+1 -> 5 | U10: =SUM(C10:E10)-SUM(F10:T10) -> 0
A11: =A10+1 -> 6 | U11: =SUM(C11:E11)-SUM(F11:T11) -> 0
A12: =A11+1 -> 7 | U12: =SUM(C12:E12)-SUM(F12:T12) -> 0
A13: =A12+1 -> 8 | U13: =SUM(C13:E13)-SUM(F13:T13) -> 0
A14: =A13+1 -> 9 | U14: =SUM(C14:E14)-SUM(F14:T14) -> 0
A15: =A14+1 -> 10 | U15: =SUM(C15:E15)-SUM(F15:T15) -> 0
A16: =A15+1 -> 11 | U16: =SUM(C16:E16)-SUM(F16:T16) -> 0
A17: =A16+1 -> 12 | U17: =SUM(C17:E17)-SUM(F17:T17) -> 0
A18: =A17+1 -> 13 | U18: =SUM(C18:E18)-SUM(F18:T18) -> 0
... A35: =A34+1 -> 30 | U35: =SUM(C35:E35)-SUM(F35:T35) -> 0
A36: TOTAL | C36: =SUM(C6:C35) -> 0 | D36: =SUM(D6:D35) -> 0 | E36: =SUM(E6:E35) -> 0 | F36: =SUM(F6:F35) -> 0 | G36: =SUM(G6:G35) -> 0 | H36: =SUM(H6:H35) -> 0 | I36: =SUM(I6:I35) -> 0 | J36: =SUM(J6:J35) -> 0 | ... T36: =SUM(T6:T35) -> 0

Sheet JUL
C2: TOTAL INGRESOS | E2: =SUM(C37:E37) -> 0 | G2: TOTAL GASTOS | I2: =SUM(F37:T37) -> 0 | K2: AHORRO DEL MÉS | M2: =E2-I2 -> 0
C4: =DATOS!B3 -> INGRESOS | F4: GASTOS | U4: TOTAL
A5: DIA | C5: =DATOS!C3 -> Concepto1 | D5: =DATOS!D3 -> Concepto2 | E5: =DATOS!E3 -> Concepto3 | F5: =DATOS!C4 -> Concepto1 | G5: =DATOS!D4 -> Concepto2 | H5: =DATOS!E4 -> Concepto3 | I5: =DATOS!F4 -> Concepto4 | J5: =DATOS!G4 -> Concepto5 | K5: =DATOS!H4 -> Concepto6 | L5: =DATOS!I4 -> Concepto7 | M5: =DATOS!J4 -> Concepto8 | ... T5: =DATOS!Q4 -> Concepto15 | U5: POR DÍA
A6: 1 | U6: =SUM(C6:E6)-SUM(F6:T6) -> 0
A7: =A6+1 -> 2 | U7: =SUM(C7:E7)-SUM(F7:T7) -> 0
A8: =A7+1 -> 3 | U8: =SUM(C8:E8)-SUM(F8:T8) -> 0
A9: =A8+1 -> 4 | U9: =SUM(C9:E9)-SUM(F9:T9) -> 0
A10: =A9+1 -> 5 | U10: =SUM(C10:E10)-SUM(F10:T10) -> 0
A11: =A10+1 -> 6 | U11: =SUM(C11:E11)-SUM(F11:T11) -> 0
A12: =A11+1 -> 7 | U12: =SUM(C12:E12)-SUM(F12:T12) -> 0
A13: =A12+1 -> 8 | U13: =SUM(C13:E13)-SUM(F13:T13) -> 0
A14: =A13+1 -> 9 | U14: =SUM(C14:E14)-SUM(F14:T14) -> 0
A15: =A14+1 -> 10 | U15: =SUM(C15:E15)-SUM(F15:T15) -> 0
A16: =A15+1 -> 11 | U16: =SUM(C16:E16)-SUM(F16:T16) -> 0
A17: =A16+1 -> 12 | U17: =SUM(C17:E17)-SUM(F17:T17) -> 0
A18: =A17+1 -> 13 | U18: =SUM(C18:E18)-SUM(F18:T18) -> 0
... A36: =A35+1 -> 31 | U36: =SUM(C36:E36)-SUM(F36:T36) -> 0
A37: TOTAL | C37: =SUM(C6:C36) -> 0 | D37: =SUM(D6:D36) -> 0 | E37: =SUM(E6:E36) -> 0 | F37: =SUM(F6:F36) -> 0 | G37: =SUM(G6:G36) -> 0 | H37: =SUM(H6:H36) -> 0 | I37: =SUM(I6:I36) -> 0 | J37: =SUM(J6:J36) -> 0 | ... T37: =SUM(T6:T36) -> 0

Sheet AGO
C2: TOTAL INGRESOS | E2: =SUM(C37:E37) -> 4 | G2: TOTAL GASTOS | I2: =SUM(F37:T37) -> 0 | K2: AHORRO DEL MÉS | M2: =E2-I2 -> 4
C4: =DATOS!B3 -> INGRESOS | F4: GASTOS | U4: TOTAL
A5: DIA | C5: =DATOS!C3 -> Concepto1 | D5: =DATOS!D3 -> Concepto2 | E5: =DATOS!E3 -> Concepto3 | F5: =DATOS!C4 -> Concepto1 | G5: =DATOS!D4 -> Concepto2 | H5: =DATOS!E4 -> Concepto3 | I5: =DATOS!F4 -> Concepto4 | J5: =DATOS!G4 -> Concepto5 | K5: =DATOS!H4 -> Concepto6 | L5: =DATOS!I4 -> Concepto7 | M5: =DATOS!J4 -> Concepto8 | ... T5: =DATOS!Q4 -> Concepto15 | U5: POR DÍA
A6: 1 | U6: =SUM(C6:E6)-SUM(F6:T6) -> 0
A7: =A6+1 -> 2 | U7: =SUM(C7:E7)-SUM(F7:T7) -> 0
A8: =A7+1 -> 3 | U8: =SUM(C8:E8)-SUM(F8:T8) -> 0
A9: =A8+1 -> 4 | U9: =SUM(C9:E9)-SUM(F9:T9) -> 0
A10: =A9+1 -> 5 | U10: =SUM(C10:E10)-SUM(F10:T10) -> 0
A11: =A10+1 -> 6 | U11: =SUM(C11:E11)-SUM(F11:T11) -> 0
A12: =A11+1 -> 7 | C12: 4 | U12: =SUM(C12:E12)-SUM(F12:T12) -> 4
A13: =A12+1 -> 8 | U13: =SUM(C13:E13)-SUM(F13:T13) -> 0
A14: =A13+1 -> 9 | U14: =SUM(C14:E14)-SUM(F14:T14) -> 0
A15: =A14+1 -> 10 | U15: =SUM(C15:E15)-SUM(F15:T15) -> 0
A16: =A15+1 -> 11 | U16: =SUM(C16:E16)-SUM(F16:T16) -> 0
A17: =A16+1 -> 12 | U17: =SUM(C17:E17)-SUM(F17:T17) -> 0
A18: =A17+1 -> 13 | U18: =SUM(C18:E18)-SUM(F18:T18) -> 0
A19: =A18+1 -> 14 | U19: =SUM(C19:E19)-SUM(F19:T19) -> 0
A20: =A19+1 -> 15 | U20: =SUM(C20:E20)-SUM(F20:T20) -> 0
A21: =A20+1 -> 16 | U21: =SUM(C21:E21)-SUM(F21:T21) -> 0
A22: =A21+1 -> 17 | U22: =SUM(C22:E22)-SUM(F22:T22) -> 0
A23: =A22+1 -> 18 | U23: =SUM(C23:E23)-SUM(F23:T23) -> 0
A24: =A23+1 -> 19 | U24: =SUM(C24:E24)-SUM(F24:T24) -> 0
... A36: =A35+1 -> 31 | U36: =SUM(C36:E36)-SUM(F36:T36) -> 0
A37: TOTAL | C37: =SUM(C6:C36) -> 4 | D37: =SUM(D6:D36) -> 0 | E37: =SUM(E6:E36) -> 0 | F37: =SUM(F6:F36) -> 0 | G37: =SUM(G6:G36) -> 0 | H37: =SUM(H6:H36) -> 0 | I37: =SUM(I6:I36) -> 0 | J37: =SUM(J6:J36) -> 0 | ... T37: =SUM(T6:T36) -> 0

Sheet SEP
C2: TOTAL INGRESOS | E2: =SUM(C36:E36) -> 0 | G2: TOTAL GASTOS | I2: =SUM(F36:T36) -> 0 | K2: AHORRO DEL MES | M2: =E2-I2 -> 0
C4: =DATOS!B3 -> INGRESOS | F4: GASTOS | U4: TOTAL
A5: DIA | C5: =DATOS!C3 -> Concepto1 | D5: =DATOS!D3 -> Concepto2 | E5: =DATOS!E3 -> Concepto3 | F5: =DATOS!C4 -> Concepto1 | G5: =DATOS!D4 -> Concepto2 | H5: =DATOS!E4 -> Concepto3 | I5: =DATOS!F4 -> Concepto4 | J5: =DATOS!G4 -> Concepto5 | K5: =DATOS!H4 -> Concepto6 | L5: =DATOS!I4 -> Concepto7 | M5: =DATOS!J4 -> Concepto8 | ... T5: =DATOS!Q4 -> Concepto15 | U5: POR DÍA
A6: 1 | U6: =SUM(C6:E6)-SUM(F6:T6) -> 0
A7: =A6+1 -> 2 | U7: =SUM(C7:E7)-SUM(F7:T7) -> 0
A8: =A7+1 -> 3 | U8: =SUM(C8:E8)-SUM(F8:T8) -> 0
A9: =A8+1 -> 4 | U9: =SUM(C9:E9)-SUM(F9:T9) -> 0
A10: =A9+1 -> 5 | U10: =SUM(C10:E10)-SUM(F10:T10) -> 0
A11: =A10+1 -> 6 | U11: =SUM(C11:E11)-SUM(F11:T11) -> 0
A12: =A11+1 -> 7 | U12: =SUM(C12:E12)-SUM(F12:T12) -> 0
A13: =A12+1 -> 8 | U13: =SUM(C13:E13)-SUM(F13:T13) -> 0
A14: =A13+1 -> 9 | U14: =SUM(C14:E14)-SUM(F14:T14) -> 0
A15: =A14+1 -> 10 | U15: =SUM(C15:E15)-SUM(F15:T15) -> 0
A16: =A15+1 -> 11 | U16: =SUM(C16:E16)-SUM(F16:T16) -> 0
A17: =A16+1 -> 12 | U17: =SUM(C17:E17)-SUM(F17:T17) -> 0
A18: =A17+1 -> 13 | U18: =SUM(C18:E18)-SUM(F18:T18) -> 0
... A35: =A34+1 -> 30 | U35: =SUM(C35:E35)-SUM(F35:T35) -> 0
A36: TOTAL | C36: =SUM(C6:C35) -> 0 | D36: =SUM(D6:D35) -> 0 | E36: =SUM(E6:E35) -> 0 | F36: =SUM(F6:F35) -> 0 | G36: =SUM(G6:G35) -> 0 | H36: =SUM(H6:H35) -> 0 | I36: =SUM(I6:I35) -> 0 | J36: =SUM(J6:J35) -> 0 | ... T36: =SUM(T6:T35) -> 0

Sheet OCT
C2: TOTAL INGRESOS | E2: =SUM(C37:E37) -> 0 | G2: TOTAL GASTOS | I2: =SUM(F37:T37) -> 0 | K2: AHORRO DEL MÉS | M2: =E2-I2 -> 0
C4: =DATOS!B3 -> INGRESOS | F4: GASTOS | U4: TOTAL
A5: DIA | C5: =DATOS!C3 -> Concepto1 | D5: =DATOS!D3 -> Concepto2 | E5: =DATOS!E3 -> Concepto3 | F5: =DATOS!C4 -> Concepto1 | G5: =DATOS!D4 -> Concepto2 | H5: =DATOS!E4 -> Concepto3 | I5: =DATOS!F4 -> Concepto4 | J5: =DATOS!G4 -> Concepto5 | K5: =DATOS!H4 -> Concepto6 | L5: =DATOS!I4 -> Concepto7 | M5: =DATOS!J4 -> Concepto8 | ... T5: =DATOS!Q4 -> Concepto15 | U5: POR DÍA
A6: 1 | U6: =SUM(C6:E6)-SUM(F6:T6) -> 0
A7: =A6+1 -> 2 | U7: =SUM(C7:E7)-SUM(F7:T7) -> 0
A8: =A7+1 -> 3 | U8: =SUM(C8:E8)-SUM(F8:T8) -> 0
A9: =A8+1 -> 4 | U9: =SUM(C9:E9)-SUM(F9:T9) -> 0
A10: =A9+1 -> 5 | U10: =SUM(C10:E10)-SUM(F10:T10) -> 0
A11: =A10+1 -> 6 | U11: =SUM(C11:E11)-SUM(F11:T11) -> 0
A12: =A11+1 -> 7 | U12: =SUM(C12:E12)-SUM(F12:T12) -> 0
A13: =A12+1 -> 8 | U13: =SUM(C13:E13)-SUM(F13:T13) -> 0
A14: =A13+1 -> 9 | U14: =SUM(C14:E14)-SUM(F14:T14) -> 0
A15: =A14+1 -> 10 | U15: =SUM(C15:E15)-SUM(F15:T15) -> 0
A16: =A15+1 -> 11 | U16: =SUM(C16:E16)-SUM(F16:T16) -> 0
A17: =A16+1 -> 12 | U17: =SUM(C17:E17)-SUM(F17:T17) -> 0
A18: =A17+1 -> 13 | U18: =SUM(C18:E18)-SUM(F18:T18) -> 0
... A36: =A35+1 -> 31 | U36: =SUM(C36:E36)-SUM(F36:T36) -> 0
A37: TOTAL | C37: =SUM(C6:C36) -> 0 | D37: =SUM(D6:D36) -> 0 | E37: =SUM(E6:E36) -> 0 | F37: =SUM(F6:F36) -> 0 | G37: =SUM(G6:G36) -> 0 | H37: =SUM(H6:H36) -> 0 | I37: =SUM(I6:I36) -> 0 | J37: =SUM(J6:J36) -> 0 | ... T37: =SUM(T6:T36) -> 0

Sheet NOV
C2: TOTAL INGRESOS | E2: =SUM(C36:E36) -> 0 | G2: TOTAL GASTOS | I2: =SUM(F36:T36) -> 0 | K2: AHORRO DEL MÉS | M2: =E2-I2 -> 0
C4: =DATOS!B3 -> INGRESOS | F4: GASTOS | U4: TOTAL
A5: DIA | C5: =DATOS!C3 -> Concepto1 | D5: =DATOS!D3 -> Concepto2 | E5: =DATOS!E3 -> Concepto3 | F5: =DATOS!C4 -> Concepto1 | G5: =DATOS!D4 -> Concepto2 | H5: =DATOS!E4 -> Concepto3 | I5: =DATOS!F4 -> Concepto4 | J5: =DATOS!G4 -> Concepto5 | K5: =DATOS!H4 -> Concepto6 | L5: =DATOS!I4 -> Concepto7 | M5: =DATOS!J4 -> Concepto8 | ... T5: =DATOS!Q4 -> Concepto15 | U5: POR DÍA
A6: 1 | U6: =SUM(C6:E6)-SUM(F6:T6) -> 0
A7: =A6+1 -> 2 | U7: =SUM(C7:E7)-SUM(F7:T7) -> 0
A8: =A7+1 -> 3 | U8: =SUM(C8:E8)-SUM(F8:T8) -> 0
A9: =A8+1 -> 4 | U9: =SUM(C9:E9)-SUM(F9:T9) -> 0
A10: =A9+1 -> 5 | U10: =SUM(C10:E10)-SUM(F10:T10) -> 0
A11: =A10+1 -> 6 | U11: =SUM(C11:E11)-SUM(F11:T11) -> 0
A12: =A11+1 -> 7 | U12: =SUM(C12:E12)-SUM(F12:T12) -> 0
A13: =A12+1 -> 8 | U13: =SUM(C13:E13)-SUM(F13:T13) -> 0
A14: =A13+1 -> 9 | U14: =SUM(C14:E14)-SUM(F14:T14) -> 0
A15: =A14+1 -> 10 | U15: =SUM(C15:E15)-SUM(F15:T15) -> 0
A16: =A15+1 -> 11 | U16: =SUM(C16:E16)-SUM(F16:T16) -> 0
A17: =A16+1 -> 12 | U17: =SUM(C17:E17)-SUM(F17:T17) -> 0
A18: =A17+1 -> 13 | U18: =SUM(C18:E18)-SUM(F18:T18) -> 0
... A35: =A34+1 -> 30 | U35: =SUM(C35:E35)-SUM(F35:T35) -> 0
A36: TOTAL | C36: =SUM(C6:C35) -> 0 | D36: =SUM(D6:D35) -> 0 | E36: =SUM(E6:E35) -> 0 | F36: =SUM(F6:F35) -> 0 | G36: =SUM(G6:G35) -> 0 | H36: =SUM(H6:H35) -> 0 | I36: =SUM(I6:I35) -> 0 | J36: =SUM(J6:J35) -> 0 | ... T36: =SUM(T6:T35) -> 0

Sheet DIC
C2: TOTAL INGRESOS | E2: =SUM(C37:E37) -> 0 | G2: TOTAL GASTOS | I2: =SUM(F37:T37) -> 0 | K2: AHORRO DEL MÉS | M2: =E2-I2 -> 0
C4: =DATOS!B3 -> INGRESOS | F4: GASTOS | U4: TOTAL
A5: DIA | C5: =DATOS!C3 -> Concepto1 | D5: =DATOS!D3 -> Concepto2 | E5: =DATOS!E3 -> Concepto3 | F5: =DATOS!C4 -> Concepto1 | G5: =DATOS!D4 -> Concepto2 | H5: =DATOS!E4 -> Concepto3 | I5: =DATOS!F4 -> Concepto4 | J5: =DATOS!G4 -> Concepto5 | K5: =DATOS!H4 -> Concepto6 | L5: =DATOS!I4 -> Concepto7 | M5: =DATOS!J4 -> Concepto8 | ... T5: =DATOS!Q4 -> Concepto15 | U5: POR DÍA
A6: 1 | U6: =SUM(C6:E6)-SUM(F6:T6) -> 0
A7: =A6+1 -> 2 | U7: =SUM(C7:E7)-SUM(F7:T7) -> 0
A8: =A7+1 -> 3 | U8: =SUM(C8:E8)-SUM(F8:T8) -> 0
A9: =A8+1 -> 4 | U9: =SUM(C9:E9)-SUM(F9:T9) -> 0
A10: =A9+1 -> 5 | U10: =SUM(C10:E10)-SUM(F10:T10) -> 0
A11: =A10+1 -> 6 | U11: =SUM(C11:E11)-SUM(F11:T11) -> 0
A12: =A11+1 -> 7 | U12: =SUM(C12:E12)-SUM(F12:T12) -> 0
A13: =A12+1 -> 8 | U13: =SUM(C13:E13)-SUM(F13:T13) -> 0
A14: =A13+1 -> 9 | U14: =SUM(C14:E14)-SUM(F14:T14) -> 0
A15: =A14+1 -> 10 | U15: =SUM(C15:E15)-SUM(F15:T15) -> 0
A16: =A15+1 -> 11 | U16: =SUM(C16:E16)-SUM(F16:T16) -> 0
A17: =A16+1 -> 12 | U17: =SUM(C17:E17)-SUM(F17:T17) -> 0
A18: =A17+1 -> 13 | U18: =SUM(C18:E18)-SUM(F18:T18) -> 0
... A36: =A35+1 -> 31 | U36: =SUM(C36:E36)-SUM(F36:T36) -> 0
A37: TOTAL | C37: =SUM(C6:C36) -> 0 | D37: =SUM(D6:D36) -> 0 | E37: =SUM(E6:E36) -> 0 | F37: =SUM(F6:F36) -> 0 | G37: =SUM(G6:G36) -> 0 | H37: =SUM(H6:H36) -> 0 | I37: =SUM(I6:I36) -> 0 | J37: =SUM(J6:J36) -> 0 | ... T37: =SUM(T6:T36) -> 0

Sheet ANUAL
C2: TOTALES MENSUALES Y ANUAL POR CADA CONCEPTO DE GASTO
C4: =DATOS!B3 -> INGRESOS | F4: GASTOS
A5: MES
A6: ENE
A7: FEB
A8: MAR
A9: ABR
A10: MAY
A11: JUN
A12: JUL
A13: AGO
A14: SEP
A15: OCT
A16: NOV
... A18: AÑO
C20: TOTAL | E20: TOTAL | G20: AHORRO
A21: MES | C21: INGRESOS | E21: GASTOS | G21: ANUAL
A22: ENE
A23: FEB
A24: MAR
A25: ABR
A26: MAY
A27: JUN
A28: JUL
A29: AGO
A30: SEP
A31: OCT
A32: NOV
A33: DIC
A34: AÑO

Sheet DATOS
B2: NOMBRE DE CONCEPTOS
B3: INGRESOS | C3: Concepto1 | D3: Concepto2 | E3: Concepto3
B4: GASTOS | C4: Concepto1 | D4: Concepto2 | E4: Concepto3 | F4: Concepto4 | G4: Concepto5 | H4: Concepto6 | I4: Concepto7 | J4: Concepto8 | K4: Concepto9 | L4: Concepto10 | M4: Concepto11 | N4: Concepto12 | O4: Concepto13 | P4: Concepto14 | Q4: Concepto15
B6: RESUMEN POR MES | G6: RESUMEN PORCENTUAL POR MES
B7: MES | C7: INGRESOS | D7: GASTOS | E7: AHORRO | G7: MES | H7: INGRESOS | I7: GASTOS | J7: AHORRO
B8: =ANUAL!A22 -> ENE | G8: =ANUAL!A22 -> ENE
B9: =ANUAL!A23 -> FEB | G9: =ANUAL!A23 -> FEB
B10: =ANUAL!A24 -> MAR | G10: =ANUAL!A24 -> MAR
B11: =ANUAL!A25 -> ABR | G11: =ANUAL!A25 -> ABR
B12: =ANUAL!A26 -> MAY | G12: =ANUAL!A26 -> MAY
B13: =ANUAL!A27 -> JUN | G13: =ANUAL!A27 -> JUN
B14: =ANUAL!A28 -> JUL | G14: =ANUAL!A28 -> JUL
B15: =ANUAL!A29 -> AGO | G15: =ANUAL!A29 -> AGO
B16: =ANUAL!A30 -> SEP | G16: =ANUAL!A30 -> SEP
B17: =ANUAL!A31 -> OCT | G17: =ANUAL!A31 -> OCT
B18: =ANUAL!A32 -> NOV | G18: =ANUAL!A32 -> NOV
B19: =ANUAL!A33 -> DIC | G19: =ANUAL!A33 -> DIC
B21: ANÁLISIS PORCENTUAL GASTOS ANUAL
C22: =C4 -> Concepto1 | D22: =D4 -> Concepto2 | E22: =E4 -> Concepto3 | F22: =F4 -> Concepto4 | G22: =G4 -> Concepto5 | H22: =H4 -> Concepto6 | I22: =I4 -> Concepto7 | J22: =J4 -> Concepto8 | ... Q22: =Q4 -> Concepto15
B23: AÑO
B25: ANÁLISIS PORCENTUAL INGRESOS ANUAL
C26: =C3 -> Concepto1 | D26: =D3 -> Concepto2 | E26: =E3 -> Concepto3
B27: AÑO
B29: ORIGEN DE LOS GASTOS
C30: =C4 -> Concepto1 | D30: =D4 -> Concepto2 | E30: =E4 -> Concepto3 | F30: =F4 -> Concepto4 | G30: =G4 -> Concepto5 | H30: =H4 -> Concepto6 | I30: =I4 -> Concepto7 | J30: =J4 -> Concepto8 | ... Q30: =Q4 -> Concepto15
B31: AÑO
B33: ORIGEN DE LOS INGRESOS
C34: =C3 -> Concepto1 | D34: =D3 -> Concepto2 | E34: =E3 -> Concepto3
B35: AÑO

Sheet Acerca de
A8: https://websitedinamico.com
